BEGIN:VCALENDAR
VERSION:2.0
PRODID:-//Tukios.com/
BEGIN:VEVENT
UID:71cb3c64-8ce6-4565-820e-49ce7506c758@www.kelchnerfuneralhome.com
DTSTAMP:20260422T184512Z
DTSTART:20260430T150000Z
DTEND:20260430T160000Z
SUMMARY:Interment
DESCRIPTION:
URL:https://www.kelchnerfuneralhome.com/obituaries/donald-bowers
LOCATION:  West Front Street  Berwick PA 18603
GEO:41.0500678;-76.2500224
END:VEVENT
END:VCALENDAR