BEGIN:VCALENDAR
VERSION:2.0
PRODID:-//Tukios.com/
BEGIN:VEVENT
UID:7b3787fd-7a55-4ca9-a6f5-9a513b539fcc@www.kelchnerfuneralhome.com
DTSTAMP:20260422T184542Z
DTSTART:20260429T220000Z
DTEND:20260429T230000Z
SUMMARY:Funeral Service
DESCRIPTION:
URL:https://www.kelchnerfuneralhome.com/obituaries/donald-bowers
LOCATION:Kelchner, McMichael & Readler Funeral Home, Inc. 119-121 E 3rd 
	St  Berwick PA 18603
GEO:41.0564867;-76.2338543
END:VEVENT
END:VCALENDAR