BEGIN:VCALENDAR
VERSION:2.0
PRODID:-//Tukios.com/
BEGIN:VEVENT
UID:263d78be-afe1-44db-828e-bda362e78f08@www.kelchnerfuneralhome.com
DTSTAMP:20260422T184813Z
DTSTART:20260429T200000Z
DTEND:20260429T220000Z
SUMMARY:Viewing
DESCRIPTION:
URL:https://www.kelchnerfuneralhome.com/obituaries/donald-bowers
LOCATION:Kelchner, McMichael & Readler Funeral Home, Inc. 119-121 E 3rd 
	St  Berwick PA 18603
GEO:41.0564867;-76.2338543
END:VEVENT
END:VCALENDAR